BEGIN:VCALENDAR
VERSION:2.0
PRODID:-//Plan Institute - ECPv6.15.20//NONSGML v1.0//EN
CALSCALE:GREGORIAN
METHOD:PUBLISH
X-WR-CALNAME:Plan Institute
X-ORIGINAL-URL:https://planinstitute.ca
X-WR-CALDESC:Events for Plan Institute
REFRESH-INTERVAL;VALUE=DURATION:PT1H
X-Robots-Tag:noindex
X-PUBLISHED-TTL:PT1H
BEGIN:VTIMEZONE
TZID:America/Vancouver
BEGIN:DAYLIGHT
TZOFFSETFROM:-0800
TZOFFSETTO:-0700
TZNAME:PDT
DTSTART:20230312T100000
END:DAYLIGHT
BEGIN:STANDARD
TZOFFSETFROM:-0700
TZOFFSETTO:-0800
TZNAME:PST
DTSTART:20231105T090000
END:STANDARD
BEGIN:DAYLIGHT
TZOFFSETFROM:-0800
TZOFFSETTO:-0700
TZNAME:PDT
DTSTART:20240310T100000
END:DAYLIGHT
BEGIN:STANDARD
TZOFFSETFROM:-0700
TZOFFSETTO:-0800
TZNAME:PST
DTSTART:20241103T090000
END:STANDARD
BEGIN:DAYLIGHT
TZOFFSETFROM:-0800
TZOFFSETTO:-0700
TZNAME:PDT
DTSTART:20250309T100000
END:DAYLIGHT
BEGIN:STANDARD
TZOFFSETFROM:-0700
TZOFFSETTO:-0800
TZNAME:PST
DTSTART:20251102T090000
END:STANDARD
BEGIN:DAYLIGHT
TZOFFSETFROM:-0800
TZOFFSETTO:-0700
TZNAME:PDT
DTSTART:20260308T100000
END:DAYLIGHT
BEGIN:STANDARD
TZOFFSETFROM:-0700
TZOFFSETTO:-0800
TZNAME:PST
DTSTART:20261101T090000
END:STANDARD
END:VTIMEZONE
BEGIN:VEVENT
DTSTART;TZID=America/Vancouver:20250423T160000
DTEND;TZID=America/Vancouver:20250423T174500
DTSTAMP:20260421T230429
CREATED:20241217T195255Z
LAST-MODIFIED:20250404T204907Z
UID:39623-1745424000-1745430300@planinstitute.ca
SUMMARY:Level 2: Advanced RDSP Webinar
DESCRIPTION:The Level 2: Advanced RDSP webinar is for those who have completed Level 1 and want to deepen their understanding and maximize the growth of their RDSP. \n 
URL:https://planinstitute.ca/events-calendar/level-2-advanced-rdsp-webinar-april-23rd-2/
CATEGORIES:RDSP Level 2
ATTACH;FMTTYPE=image/png:https://planinstitute.ca/wp-content/uploads/2024/01/Level-2_-Advanced-RDSP-1.png
ORGANIZER;CN="Plan Institute":MAILTO:info@planinstitute.ca
END:VEVENT
BEGIN:VEVENT
DTSTART;TZID=America/Vancouver:20250417T100000
DTEND;TZID=America/Vancouver:20250417T113000
DTSTAMP:20260421T230429
CREATED:20241217T201047Z
LAST-MODIFIED:20250404T204616Z
UID:39638-1744884000-1744889400@planinstitute.ca
SUMMARY:Wills\, Trusts\, and Estate Planning (BC) Webinar
DESCRIPTION:This webinar will cover the importance of creating a will\, different types of trusts\, and other estate planning considerations for a loved one with a disability. \n 
URL:https://planinstitute.ca/events-calendar/wills-trusts-and-estate-planning-bc-webinar-april-17th/
CATEGORIES:Wills, Trusts, and Estate Planning
ATTACH;FMTTYPE=image/png:https://planinstitute.ca/wp-content/uploads/2024/01/Wills-Trusts-and-Estate-Planning.png
ORGANIZER;CN="Plan Institute":MAILTO:info@planinstitute.ca
END:VEVENT
BEGIN:VEVENT
DTSTART;TZID=America/Vancouver:20250410T160000
DTEND;TZID=America/Vancouver:20250410T173000
DTSTAMP:20260421T230429
CREATED:20241217T192229Z
LAST-MODIFIED:20250404T220643Z
UID:39608-1744300800-1744306200@planinstitute.ca
SUMMARY:Level 1: Intro to the RDSP Webinar
DESCRIPTION:The Level 1: Intro to the RDSP webinar covers what an RDSP is\, eligibility criteria\, how to open an RDSP\, and how to apply for the Disability Tax Credit.
URL:https://planinstitute.ca/events-calendar/level-1-intro-to-the-rdsp-webinar-april-10th/
CATEGORIES:RDSP Level 1
ATTACH;FMTTYPE=image/png:https://planinstitute.ca/wp-content/uploads/2024/01/Level-1-Intro-to-the-RDSP.png
ORGANIZER;CN="Plan Institute":MAILTO:info@planinstitute.ca
END:VEVENT
BEGIN:VEVENT
DTSTART;TZID=America/Vancouver:20250326T150000
DTEND;TZID=America/Vancouver:20250326T163000
DTSTAMP:20260421T230429
CREATED:20250307T204444Z
LAST-MODIFIED:20250404T211852Z
UID:41925-1743001200-1743006600@planinstitute.ca
SUMMARY:La Prestation pour enfants handicapés avec Finautonome/Webinar for Children with Disabilities with Finautonome
DESCRIPTION:Cette conférence vise à vous informer sur les prestations et aides disponibles pour les enfants handicapés.
URL:https://planinstitute.ca/events-calendar/webinar-for-children-with-disabilities-with-finautonome-march-26th/
CATEGORIES:Partner Events
ATTACH;FMTTYPE=image/jpeg:https://planinstitute.ca/wp-content/uploads/2025/03/Webinar-for-Children-with-Disabilities-with-Finautonome.jpg
ORGANIZER;CN="Plan Institute":MAILTO:info@planinstitute.ca
END:VEVENT
BEGIN:VEVENT
DTSTART;TZID=America/Vancouver:20250326T100000
DTEND;TZID=America/Vancouver:20250326T114500
DTSTAMP:20260421T230429
CREATED:20241217T194745Z
LAST-MODIFIED:20250404T220619Z
UID:39622-1742983200-1742989500@planinstitute.ca
SUMMARY:Level 2: Advanced RDSP Webinar
DESCRIPTION:The Level 2: Advanced RDSP webinar is for those who have completed Level 1 and want to deepen their understanding and maximize the growth of their RDSP. \n 
URL:https://planinstitute.ca/events-calendar/level-2-advanced-rdsp-webinar-march-26th/
CATEGORIES:RDSP Level 2
ATTACH;FMTTYPE=image/png:https://planinstitute.ca/wp-content/uploads/2024/01/Level-2_-Advanced-RDSP-1.png
ORGANIZER;CN="Plan Institute":MAILTO:info@planinstitute.ca
END:VEVENT
BEGIN:VEVENT
DTSTART;TZID=America/Vancouver:20250320T193000
DTEND;TZID=America/Vancouver:20250320T203000
DTSTAMP:20260421T230429
CREATED:20241216T194338Z
LAST-MODIFIED:20250404T220559Z
UID:39566-1742499000-1742502600@planinstitute.ca
SUMMARY:Wills\, Trusts\, and Estate Planning (BC) Webinar
DESCRIPTION:This webinar will cover the importance of creating a will\, different types of trusts\, and other estate planning considerations for a loved one with a disability.
URL:https://planinstitute.ca/events-calendar/wills-trusts-and-estate-planning-bc-webinar-march-20th/
CATEGORIES:Wills, Trusts, and Estate Planning
ATTACH;FMTTYPE=image/png:https://planinstitute.ca/wp-content/uploads/2024/01/Wills-Trusts-and-Estate-Planning.png
ORGANIZER;CN="Plan Institute":MAILTO:info@planinstitute.ca
END:VEVENT
BEGIN:VEVENT
DTSTART;TZID=America/Vancouver:20250320T150000
DTEND;TZID=America/Vancouver:20250320T163000
DTSTAMP:20260421T230429
CREATED:20250307T200305Z
LAST-MODIFIED:20250404T205827Z
UID:41914-1742482800-1742488200@planinstitute.ca
SUMMARY:Conférence sur le CIPH avec Finautonome/Webinar on the Disability Tax Credit with Finautonome
DESCRIPTION:Nous allons vous donner des trucs et astuces pour être admissible à cette porte d’entrée sur plusieurs programmes mesures. Étapes par étapes\, nous allons regarder le formulaire T2201.
URL:https://planinstitute.ca/events-calendar/disability-tax-credit-webinar-with-finautonome-march-20th/
CATEGORIES:Disability Tax Credit,Partner Events
ATTACH;FMTTYPE=image/jpeg:https://planinstitute.ca/wp-content/uploads/2025/03/Webinar-on-the-DTC-with-Finautonome.jpg
ORGANIZER;CN="Plan Institute":MAILTO:info@planinstitute.ca
END:VEVENT
BEGIN:VEVENT
DTSTART;TZID=America/Vancouver:20250313T100000
DTEND;TZID=America/Vancouver:20250313T113000
DTSTAMP:20260421T230429
CREATED:20241217T191757Z
LAST-MODIFIED:20250404T220542Z
UID:39604-1741860000-1741865400@planinstitute.ca
SUMMARY:Level 1: Intro to the RDSP Webinar
DESCRIPTION:The Level 1: Intro to the RDSP webinar covers what an RDSP is\, eligibility criteria\, how to open an RDSP\, and how to apply for the Disability Tax Credit. \n 
URL:https://planinstitute.ca/events-calendar/level-1-intro-to-the-rdsp-webinar-march-13th/
CATEGORIES:RDSP Level 1
ATTACH;FMTTYPE=image/png:https://planinstitute.ca/wp-content/uploads/2024/01/Level-1-Intro-to-the-RDSP.png
ORGANIZER;CN="Plan Institute":MAILTO:info@planinstitute.ca
END:VEVENT
BEGIN:VEVENT
DTSTART;TZID=America/Vancouver:20250226T190000
DTEND;TZID=America/Vancouver:20250226T204500
DTSTAMP:20260421T230429
CREATED:20241217T194613Z
LAST-MODIFIED:20250404T220503Z
UID:39621-1740596400-1740602700@planinstitute.ca
SUMMARY:Level 2: Advanced RDSP Webinar
DESCRIPTION:The Level 2: Advanced RDSP webinar is for those who have completed Level 1 and want to deepen their understanding and maximize the growth of their RDSP. \n 
URL:https://planinstitute.ca/events-calendar/level-2-advanced-rdsp-webinar-february-26th/
CATEGORIES:RDSP Level 2
ATTACH;FMTTYPE=image/png:https://planinstitute.ca/wp-content/uploads/2024/01/Level-2_-Advanced-RDSP-1.png
ORGANIZER;CN="Plan Institute":MAILTO:info@planinstitute.ca
END:VEVENT
BEGIN:VEVENT
DTSTART;TZID=America/Vancouver:20250220T100000
DTEND;TZID=America/Vancouver:20250220T113000
DTSTAMP:20260421T230429
CREATED:20241216T194611Z
LAST-MODIFIED:20250404T220429Z
UID:39568-1740045600-1740051000@planinstitute.ca
SUMMARY:Wills\, Trusts\, and Estate Planning (BC) Webinar
DESCRIPTION:This webinar will cover the importance of creating a will\, different types of trusts\, and other estate planning considerations for a loved one with a disability. \n 
URL:https://planinstitute.ca/events-calendar/wills-trusts-and-estate-planning-bc-webinar-february-20th/
CATEGORIES:Wills, Trusts, and Estate Planning
ATTACH;FMTTYPE=image/png:https://planinstitute.ca/wp-content/uploads/2024/01/Wills-Trusts-and-Estate-Planning.png
ORGANIZER;CN="Plan Institute":MAILTO:info@planinstitute.ca
END:VEVENT
BEGIN:VEVENT
DTSTART;TZID=America/Vancouver:20250212T190000
DTEND;TZID=America/Vancouver:20250212T203000
DTSTAMP:20260421T230429
CREATED:20241217T191545Z
LAST-MODIFIED:20250404T220404Z
UID:39602-1739386800-1739392200@planinstitute.ca
SUMMARY:Level 1: Intro to the RDSP Webinar
DESCRIPTION:The Level 1: Intro to the RDSP webinar covers what an RDSP is\, eligibility criteria\, how to open an RDSP\, and how to apply for the Disability Tax Credit. \n 
URL:https://planinstitute.ca/events-calendar/level-1-intro-to-the-rdsp-webinar-february-12th/
CATEGORIES:RDSP Level 1
ATTACH;FMTTYPE=image/png:https://planinstitute.ca/wp-content/uploads/2024/01/Level-1-Intro-to-the-RDSP.png
ORGANIZER;CN="Plan Institute":MAILTO:info@planinstitute.ca
END:VEVENT
BEGIN:VEVENT
DTSTART;VALUE=DATE:20250127
DTEND;VALUE=DATE:20250310
DTSTAMP:20260421T230429
CREATED:20241023T183819Z
LAST-MODIFIED:20250404T220349Z
UID:38215-1737936000-1741564799@planinstitute.ca
SUMMARY:Personal Support Network Facilitation Online Course
DESCRIPTION:In our Personal Support Network Facilitation course\, you will learn how to build personal support networks for people facing social isolation.
URL:https://planinstitute.ca/events-calendar/personal-support-network-facilitation-online-course-january-27th/
CATEGORIES:Personal Support Network Facilitation Online Course
ATTACH;FMTTYPE=image/png:https://planinstitute.ca/wp-content/uploads/2024/11/Personal-Support-Network-Facilitation.png
ORGANIZER;CN="Plan Institute":MAILTO:info@planinstitute.ca
END:VEVENT
BEGIN:VEVENT
DTSTART;TZID=America/Vancouver:20250121T160000
DTEND;TZID=America/Vancouver:20250121T174500
DTSTAMP:20260421T230429
CREATED:20241217T194507Z
LAST-MODIFIED:20250404T220334Z
UID:39620-1737475200-1737481500@planinstitute.ca
SUMMARY:Level 2: Advanced RDSP Webinar
DESCRIPTION:The Level 2: Advanced RDSP webinar is for those who have completed Level 1 and want to deepen their understanding and maximize the growth of their RDSP. \n 
URL:https://planinstitute.ca/events-calendar/level-2-advanced-rdsp-webinar-january-21st/
CATEGORIES:RDSP Level 2
ATTACH;FMTTYPE=image/png:https://planinstitute.ca/wp-content/uploads/2024/01/Level-2_-Advanced-RDSP-1.png
ORGANIZER;CN="Plan Institute":MAILTO:info@planinstitute.ca
END:VEVENT
BEGIN:VEVENT
DTSTART;TZID=America/Vancouver:20250116T190000
DTEND;TZID=America/Vancouver:20250116T203000
DTSTAMP:20260421T230429
CREATED:20241216T194159Z
LAST-MODIFIED:20250404T220315Z
UID:39564-1737054000-1737059400@planinstitute.ca
SUMMARY:Wills\, Trusts\, and Estate Planning (BC) Webinar
DESCRIPTION:This webinar will cover the importance of creating a will\, different types of trusts\, and other estate planning considerations for a loved one with a disability. \n 
URL:https://planinstitute.ca/events-calendar/wills-trusts-and-estate-planning-bc-webinar-january-16th/
CATEGORIES:Wills, Trusts, and Estate Planning
ATTACH;FMTTYPE=image/png:https://planinstitute.ca/wp-content/uploads/2024/01/Wills-Trusts-and-Estate-Planning.png
ORGANIZER;CN="Plan Institute":MAILTO:info@planinstitute.ca
END:VEVENT
BEGIN:VEVENT
DTSTART;TZID=America/Vancouver:20250116T160000
DTEND;TZID=America/Vancouver:20250116T173000
DTSTAMP:20260421T230429
CREATED:20241217T191236Z
LAST-MODIFIED:20250404T220226Z
UID:39594-1737043200-1737048600@planinstitute.ca
SUMMARY:Level 1: Intro to the RDSP Webinar
DESCRIPTION:The Level 1: Intro to the RDSP webinar covers what an RDSP is\, eligibility criteria\, how to open an RDSP\, and how to apply for the Disability Tax Credit.
URL:https://planinstitute.ca/events-calendar/level-1-intro-to-the-rdsp-webinar-january-16th/
CATEGORIES:RDSP Level 1
ATTACH;FMTTYPE=image/png:https://planinstitute.ca/wp-content/uploads/2024/01/Level-1-Intro-to-the-RDSP.png
ORGANIZER;CN="Plan Institute":MAILTO:info@planinstitute.ca
END:VEVENT
BEGIN:VEVENT
DTSTART;TZID=America/Vancouver:20241212T100000
DTEND;TZID=America/Vancouver:20241212T111500
DTSTAMP:20260421T230429
CREATED:20240621T034845Z
LAST-MODIFIED:20250404T220203Z
UID:36368-1733997600-1734002100@planinstitute.ca
SUMMARY:Wills\, Trusts\, and Estate Planning (BC) Webinar
DESCRIPTION:This webinar will cover the importance of creating a will\, different types of trusts\, and other estate planning considerations for a loved one with a disability.
URL:https://planinstitute.ca/events-calendar/wills-trusts-and-estate-planning-bc-webinar-december-12th/
CATEGORIES:Wills, Trusts, and Estate Planning
ATTACH;FMTTYPE=image/png:https://planinstitute.ca/wp-content/uploads/2024/01/Wills-Trusts-and-Estate-Planning.png
ORGANIZER;CN="Plan Institute":MAILTO:info@planinstitute.ca
END:VEVENT
BEGIN:VEVENT
DTSTART;TZID=America/Vancouver:20241211T100000
DTEND;TZID=America/Vancouver:20241211T114500
DTSTAMP:20260421T230429
CREATED:20240621T031418Z
LAST-MODIFIED:20250404T220140Z
UID:36351-1733911200-1733917500@planinstitute.ca
SUMMARY:Level 2: Advanced RDSP Webinar
DESCRIPTION:The Level 2: Advanced RDSP webinar is for those who have completed Level 1 and want to deepen their understanding and maximize the growth of their RDSP.
URL:https://planinstitute.ca/events-calendar/level-2-advanced-rdsp-webinar-december-11th/
CATEGORIES:RDSP Level 2
ATTACH;FMTTYPE=image/png:https://planinstitute.ca/wp-content/uploads/2024/01/Level-2_-Advanced-RDSP-1.png
ORGANIZER;CN="Plan Institute":MAILTO:info@planinstitute.ca
END:VEVENT
BEGIN:VEVENT
DTSTART;TZID=America/Vancouver:20241204T100000
DTEND;TZID=America/Vancouver:20241204T113000
DTSTAMP:20260421T230429
CREATED:20240621T024606Z
LAST-MODIFIED:20250404T220122Z
UID:36336-1733306400-1733311800@planinstitute.ca
SUMMARY:Level 1: Intro to the RDSP Webinar
DESCRIPTION:The Level 1: Intro to the RDSP webinar covers what an RDSP is\, eligibility criteria\, how to open an RDSP\, and how to apply for the Disability Tax Credit.
URL:https://planinstitute.ca/events-calendar/level-1-intro-to-the-rdsp-webinar-december-4th/
CATEGORIES:RDSP Level 1
ATTACH;FMTTYPE=image/png:https://planinstitute.ca/wp-content/uploads/2024/01/Level-1-Intro-to-the-RDSP.png
ORGANIZER;CN="Plan Institute":MAILTO:info@planinstitute.ca
END:VEVENT
BEGIN:VEVENT
DTSTART;TZID=America/Vancouver:20241121T190000
DTEND;TZID=America/Vancouver:20241121T201500
DTSTAMP:20260421T230429
CREATED:20240621T034612Z
LAST-MODIFIED:20250404T220048Z
UID:36366-1732215600-1732220100@planinstitute.ca
SUMMARY:Wills\, Trusts\, and Estate Planning (BC) Webinar
DESCRIPTION:This webinar will cover the importance of creating a will\, different types of trusts\, and other estate planning considerations for a loved one with a disability.
URL:https://planinstitute.ca/events-calendar/wills-trusts-and-estate-planning-bc-webinar-november-21st/
CATEGORIES:Wills, Trusts, and Estate Planning
ATTACH;FMTTYPE=image/png:https://planinstitute.ca/wp-content/uploads/2024/01/Wills-Trusts-and-Estate-Planning.png
ORGANIZER;CN="Plan Institute":MAILTO:info@planinstitute.ca
END:VEVENT
BEGIN:VEVENT
DTSTART;TZID=America/Vancouver:20241119T190000
DTEND;TZID=America/Vancouver:20241119T204500
DTSTAMP:20260421T230429
CREATED:20240621T031217Z
LAST-MODIFIED:20250404T220027Z
UID:36349-1732042800-1732049100@planinstitute.ca
SUMMARY:Level 2: Advanced RDSP Webinar
DESCRIPTION:The Level 2: Advanced RDSP webinar is for those who have completed Level 1 and want to deepen their understanding and maximize the growth of their RDSP.
URL:https://planinstitute.ca/events-calendar/level-2-advanced-rdsp-webinar-november-19th/
CATEGORIES:RDSP Level 2
ATTACH;FMTTYPE=image/png:https://planinstitute.ca/wp-content/uploads/2024/01/Level-2_-Advanced-RDSP-1.png
ORGANIZER;CN="Plan Institute":MAILTO:info@planinstitute.ca
END:VEVENT
BEGIN:VEVENT
DTSTART;TZID=America/Vancouver:20241113T190000
DTEND;TZID=America/Vancouver:20241113T203000
DTSTAMP:20260421T230429
CREATED:20240621T024036Z
LAST-MODIFIED:20250404T215924Z
UID:36334-1731524400-1731529800@planinstitute.ca
SUMMARY:Level 1: Intro to the RDSP Webinar
DESCRIPTION:The Level 1: Intro to the RDSP webinar covers what an RDSP is\, eligibility criteria\, how to open an RDSP\, and how to apply for the Disability Tax Credit.
URL:https://planinstitute.ca/events-calendar/level-1-intro-to-the-rdsp-webinar-november-13th/
CATEGORIES:RDSP Level 1
ATTACH;FMTTYPE=image/png:https://planinstitute.ca/wp-content/uploads/2024/01/Level-1-Intro-to-the-RDSP.png
ORGANIZER;CN="Plan Institute":MAILTO:info@planinstitute.ca
END:VEVENT
BEGIN:VEVENT
DTSTART;TZID=America/Vancouver:20241030T130000
DTEND;TZID=America/Vancouver:20241030T143000
DTSTAMP:20260421T230429
CREATED:20240921T005142Z
LAST-MODIFIED:20250404T215817Z
UID:37806-1730293200-1730298600@planinstitute.ca
SUMMARY:Ask an Expert: The RDSP and Other Disability Financial Planning Considerations
DESCRIPTION:As part of RDSP Awareness Month\, join this event for a moderated question and answer period on the Registered Disability Saving Plan (RDSP) and other disability related financial planning considerations. credits\, and more.
URL:https://planinstitute.ca/events-calendar/ask-an-expert-the-rdsp-and-other-disability-financial-planning-considerations-october-30th/
CATEGORIES:Ask An Expert
ATTACH;FMTTYPE=image/png:https://planinstitute.ca/wp-content/uploads/2024/09/Ask-an-Expert-The-RDSP-and-Other-Disability-Financial-Planning-Considerations.png
ORGANIZER;CN="Plan Institute":MAILTO:info@planinstitute.ca
END:VEVENT
BEGIN:VEVENT
DTSTART;TZID=America/Vancouver:20241024T100000
DTEND;TZID=America/Vancouver:20241024T111500
DTSTAMP:20260421T230429
CREATED:20240621T034338Z
LAST-MODIFIED:20250404T215803Z
UID:36364-1729764000-1729768500@planinstitute.ca
SUMMARY:Wills\, Trusts\, and Estate Planning (BC) Webinar
DESCRIPTION:This webinar will cover the importance of creating a will\, different types of trusts\, and other estate planning considerations for a loved one with a disability.
URL:https://planinstitute.ca/events-calendar/wills-trusts-and-estate-planning-bc-webinar-october-24th/
CATEGORIES:Wills, Trusts, and Estate Planning
ATTACH;FMTTYPE=image/png:https://planinstitute.ca/wp-content/uploads/2024/01/Wills-Trusts-and-Estate-Planning.png
ORGANIZER;CN="Plan Institute":MAILTO:info@planinstitute.ca
END:VEVENT
BEGIN:VEVENT
DTSTART;TZID=America/Vancouver:20241022T100000
DTEND;TZID=America/Vancouver:20241022T114500
DTSTAMP:20260421T230429
CREATED:20240621T030855Z
LAST-MODIFIED:20250404T215746Z
UID:36347-1729591200-1729597500@planinstitute.ca
SUMMARY:Level 2: Advanced RDSP Webinar
DESCRIPTION:The Level 2: Advanced RDSP webinar is for those who have completed Level 1 and want to deepen their understanding and maximize the growth of their RDSP.
URL:https://planinstitute.ca/events-calendar/level-2-advanced-rdsp-webinar-october-22nd/
CATEGORIES:RDSP Level 2
ATTACH;FMTTYPE=image/png:https://planinstitute.ca/wp-content/uploads/2024/01/Level-2_-Advanced-RDSP-1.png
ORGANIZER;CN="Plan Institute":MAILTO:info@planinstitute.ca
END:VEVENT
BEGIN:VEVENT
DTSTART;TZID=America/Vancouver:20241016T100000
DTEND;TZID=America/Vancouver:20241016T113000
DTSTAMP:20260421T230429
CREATED:20240621T023847Z
LAST-MODIFIED:20250404T215732Z
UID:36332-1729072800-1729078200@planinstitute.ca
SUMMARY:Level 1: Intro to the RDSP Webinar
DESCRIPTION:The Level 1: Intro to the RDSP webinar covers what an RDSP is\, eligibility criteria\, how to open an RDSP\, and how to apply for the Disability Tax Credit.
URL:https://planinstitute.ca/events-calendar/level-1-intro-to-the-rdsp-webinar-october-16th/
CATEGORIES:RDSP Level 1
ATTACH;FMTTYPE=image/png:https://planinstitute.ca/wp-content/uploads/2024/01/Level-1-Intro-to-the-RDSP.png
ORGANIZER;CN="Plan Institute":MAILTO:info@planinstitute.ca
END:VEVENT
BEGIN:VEVENT
DTSTART;TZID=America/Vancouver:20241015T160000
DTEND;TZID=America/Vancouver:20241015T180000
DTSTAMP:20260421T230429
CREATED:20241002T172221Z
LAST-MODIFIED:20250404T205742Z
UID:37959-1729008000-1729015200@planinstitute.ca
SUMMARY:Presented in Partnership with Meta Centre: Information Webinar for Families
DESCRIPTION:Please join us for this free webinar on the basics of the Disability Tax Credit (DTC)/T2201 Form from the CRA and the Registered Disability Savings Plan (RDSP). These programs\, along with other related benefits of the DTC\, can provide significant financial relief for people with disabilities and their caregivers.
URL:https://planinstitute.ca/events-calendar/meta-centre-information-webinar-for-families-october-15th/
CATEGORIES:Partner Events
ORGANIZER;CN="Plan Institute":MAILTO:info@planinstitute.ca
END:VEVENT
BEGIN:VEVENT
DTSTART;TZID=America/Vancouver:20241009T130000
DTEND;TZID=America/Vancouver:20241009T143000
DTSTAMP:20260421T230429
CREATED:20240921T004807Z
LAST-MODIFIED:20250404T215606Z
UID:37801-1728478800-1728484200@planinstitute.ca
SUMMARY:Ask an Expert: The DTC and Other Disability Tax Supports
DESCRIPTION:As part of RDSP Awareness Month\, join this event for a moderated question and answer period on the Disability Tax Credit (DTC) and other disability related tax benefits\, credits\, and more.
URL:https://planinstitute.ca/events-calendar/ask-an-expert-the-dtc-and-other-disability-tax-supports-october-9th/
CATEGORIES:Ask An Expert,Partner Events
ATTACH;FMTTYPE=image/png:https://planinstitute.ca/wp-content/uploads/2024/09/Ask-an-Expert-The-DTC-and-Other-Disability-Tax-Supports-1.png
ORGANIZER;CN="Plan Institute":MAILTO:info@planinstitute.ca
END:VEVENT
BEGIN:VEVENT
DTSTART;VALUE=DATE:20241007
DTEND;VALUE=DATE:20241118
DTSTAMP:20260421T230429
CREATED:20240921T010703Z
LAST-MODIFIED:20250404T215540Z
UID:37812-1728259200-1731887999@planinstitute.ca
SUMMARY:Personal Support Network Facilitation Online Course
DESCRIPTION:In our Personal Support Network Facilitation course\, you will learn how to build personal support networks for people facing social isolation.
URL:https://planinstitute.ca/events-calendar/personal-support-network-facilitation-online-course-october-7th/
CATEGORIES:Personal Support Network Facilitation Online Course
ATTACH;FMTTYPE=image/png:https://planinstitute.ca/wp-content/uploads/2024/11/Personal-Support-Network-Facilitation.png
ORGANIZER;CN="Plan Institute":MAILTO:info@planinstitute.ca
END:VEVENT
BEGIN:VEVENT
DTSTART;TZID=America/Vancouver:20240926T190000
DTEND;TZID=America/Vancouver:20240926T204500
DTSTAMP:20260421T230429
CREATED:20240621T030650Z
LAST-MODIFIED:20250404T215515Z
UID:36345-1727377200-1727383500@planinstitute.ca
SUMMARY:Level 2: Advanced RDSP Webinar
DESCRIPTION:The Level 2: Advanced RDSP webinar is for those who have completed Level 1 and want to deepen their understanding and maximize the growth of their RDSP.
URL:https://planinstitute.ca/events-calendar/level-2-advanced-rdsp-webinar-september-26th/
CATEGORIES:RDSP Level 2
ATTACH;FMTTYPE=image/png:https://planinstitute.ca/wp-content/uploads/2024/01/Level-2_-Advanced-RDSP-1.png
ORGANIZER;CN="Plan Institute":MAILTO:info@planinstitute.ca
END:VEVENT
BEGIN:VEVENT
DTSTART;TZID=America/Vancouver:20240919T190000
DTEND;TZID=America/Vancouver:20240919T201500
DTSTAMP:20260421T230429
CREATED:20240621T034137Z
LAST-MODIFIED:20250404T215445Z
UID:36362-1726772400-1726776900@planinstitute.ca
SUMMARY:Wills\, Trusts\, and Estate Planning (BC) Webinar
DESCRIPTION:This webinar will cover the importance of creating a will\, different types of trusts\, and other estate planning considerations for a loved one with a disability.
URL:https://planinstitute.ca/events-calendar/wills-trusts-and-estate-planning-bc-webinar-september-19th/
CATEGORIES:Wills, Trusts, and Estate Planning
ATTACH;FMTTYPE=image/png:https://planinstitute.ca/wp-content/uploads/2024/01/Wills-Trusts-and-Estate-Planning.png
ORGANIZER;CN="Plan Institute":MAILTO:info@planinstitute.ca
END:VEVENT
END:VCALENDAR