BEGIN:VCALENDAR
VERSION:2.0
PRODID:-//Plan Institute - ECPv6.15.20//NONSGML v1.0//EN
CALSCALE:GREGORIAN
METHOD:PUBLISH
X-WR-CALNAME:Plan Institute
X-ORIGINAL-URL:https://planinstitute.ca
X-WR-CALDESC:Events for Plan Institute
REFRESH-INTERVAL;VALUE=DURATION:PT1H
X-Robots-Tag:noindex
X-PUBLISHED-TTL:PT1H
BEGIN:VTIMEZONE
TZID:America/Vancouver
BEGIN:DAYLIGHT
TZOFFSETFROM:-0800
TZOFFSETTO:-0700
TZNAME:PDT
DTSTART:20230312T100000
END:DAYLIGHT
BEGIN:STANDARD
TZOFFSETFROM:-0700
TZOFFSETTO:-0800
TZNAME:PST
DTSTART:20231105T090000
END:STANDARD
BEGIN:DAYLIGHT
TZOFFSETFROM:-0800
TZOFFSETTO:-0700
TZNAME:PDT
DTSTART:20240310T100000
END:DAYLIGHT
BEGIN:STANDARD
TZOFFSETFROM:-0700
TZOFFSETTO:-0800
TZNAME:PST
DTSTART:20241103T090000
END:STANDARD
BEGIN:DAYLIGHT
TZOFFSETFROM:-0800
TZOFFSETTO:-0700
TZNAME:PDT
DTSTART:20250309T100000
END:DAYLIGHT
BEGIN:STANDARD
TZOFFSETFROM:-0700
TZOFFSETTO:-0800
TZNAME:PST
DTSTART:20251102T090000
END:STANDARD
END:VTIMEZONE
BEGIN:VEVENT
DTSTART;TZID=America/Vancouver:20240917T190000
DTEND;TZID=America/Vancouver:20240917T203000
DTSTAMP:20260422T090739
CREATED:20240621T023530Z
LAST-MODIFIED:20250404T215426Z
UID:36330-1726599600-1726605000@planinstitute.ca
SUMMARY:Level 1: Intro to the RDSP Webinar
DESCRIPTION:The Level 1: Intro to the RDSP webinar covers what an RDSP is\, eligibility criteria\, how to open an RDSP\, and how to apply for the Disability Tax Credit.
URL:https://planinstitute.ca/events-calendar/level-1-intro-to-the-rdsp-webinar-september-17th/
CATEGORIES:RDSP Level 1
ATTACH;FMTTYPE=image/png:https://planinstitute.ca/wp-content/uploads/2024/01/Level-1-Intro-to-the-RDSP.png
ORGANIZER;CN="Plan Institute":MAILTO:info@planinstitute.ca
END:VEVENT
BEGIN:VEVENT
DTSTART;TZID=America/Vancouver:20240905T100000
DTEND;TZID=America/Vancouver:20240905T110000
DTSTAMP:20260422T090739
CREATED:20240903T182206Z
LAST-MODIFIED:20250404T205751Z
UID:37634-1725530400-1725534000@planinstitute.ca
SUMMARY:Presented in Partnership with Resolute Legal Disability Lawyers: Disability Claims Answers Show
DESCRIPTION:Join us and Resolute Legal Disability Lawyers at the upcoming Disability Claims Answers Show where you’ll learn about some financial planning basics for people with disabilities.
URL:https://planinstitute.ca/events-calendar/resolute-legal-disability-lawyers-webinar-september-5th/
CATEGORIES:Partner Events
ATTACH;FMTTYPE=image/jpeg:https://planinstitute.ca/wp-content/uploads/2024/09/Disability-Claims-Answers-Show.jpg
ORGANIZER;CN="Plan Institute":MAILTO:info@planinstitute.ca
END:VEVENT
BEGIN:VEVENT
DTSTART;TZID=America/Vancouver:20240820T100000
DTEND;TZID=America/Vancouver:20240820T114500
DTSTAMP:20260422T090739
CREATED:20240621T030359Z
LAST-MODIFIED:20250404T215406Z
UID:36343-1724148000-1724154300@planinstitute.ca
SUMMARY:Level 2: Advanced RDSP Webinar
DESCRIPTION:The Level 2: Advanced RDSP webinar is for those who have completed Level 1 and want to deepen their understanding and maximize the growth of their RDSP.
URL:https://planinstitute.ca/events-calendar/level-2-advanced-rdsp-webinar-august-20th/
CATEGORIES:RDSP Level 2
ATTACH;FMTTYPE=image/png:https://planinstitute.ca/wp-content/uploads/2024/01/Level-2_-Advanced-RDSP-1.png
ORGANIZER;CN="Plan Institute":MAILTO:info@planinstitute.ca
END:VEVENT
BEGIN:VEVENT
DTSTART;TZID=America/Vancouver:20240815T100000
DTEND;TZID=America/Vancouver:20240815T111500
DTSTAMP:20260422T090739
CREATED:20240621T033918Z
LAST-MODIFIED:20250404T215318Z
UID:36359-1723716000-1723720500@planinstitute.ca
SUMMARY:Wills\, Trusts\, and Estate Planning (BC) Webinar
DESCRIPTION:This webinar will cover the importance of creating a will\, different types of trusts\, and other estate planning considerations for a loved one with a disability.
URL:https://planinstitute.ca/events-calendar/wills-trusts-and-estate-planning-bc-webinar-august-15th/
CATEGORIES:Wills, Trusts, and Estate Planning
ATTACH;FMTTYPE=image/png:https://planinstitute.ca/wp-content/uploads/2024/01/Wills-Trusts-and-Estate-Planning.png
ORGANIZER;CN="Plan Institute":MAILTO:info@planinstitute.ca
END:VEVENT
BEGIN:VEVENT
DTSTART;TZID=America/Vancouver:20240814T100000
DTEND;TZID=America/Vancouver:20240814T113000
DTSTAMP:20260422T090739
CREATED:20240621T023233Z
LAST-MODIFIED:20250404T215257Z
UID:36327-1723629600-1723635000@planinstitute.ca
SUMMARY:Level 1: Intro to the RDSP Webinar
DESCRIPTION:The Level 1: Intro to the RDSP webinar covers what an RDSP is\, eligibility criteria\, how to open an RDSP\, and how to apply for the Disability Tax Credit.
URL:https://planinstitute.ca/events-calendar/level-1-intro-to-the-rdsp-webinar-august-14th/
CATEGORIES:RDSP Level 1
ATTACH;FMTTYPE=image/png:https://planinstitute.ca/wp-content/uploads/2024/01/Level-1-Intro-to-the-RDSP.png
ORGANIZER;CN="Plan Institute":MAILTO:info@planinstitute.ca
END:VEVENT
BEGIN:VEVENT
DTSTART;TZID=America/Vancouver:20240722T190000
DTEND;TZID=America/Vancouver:20240722T203000
DTSTAMP:20260422T090739
CREATED:20240621T211532Z
LAST-MODIFIED:20250404T205543Z
UID:36375-1721674800-1721680200@planinstitute.ca
SUMMARY:Presented in Partnership with Pathways Serious Mental Illness Society Workshop: Level 2: Advanced RDSP Webinar
DESCRIPTION:The Level 2: Advanced RDSP webinar is for those who have completed Level 1 and want to deepen their understanding and maximize the growth of their RDSP. \n 
URL:https://planinstitute.ca/events-calendar/pathwayssmi-webinar-july-22nd/
CATEGORIES:Partner Events,RDSP Level 2
ATTACH;FMTTYPE=image/png:https://planinstitute.ca/wp-content/uploads/2024/06/Pathways-SMI-Webinar.png
ORGANIZER;CN="Plan Institute":MAILTO:info@planinstitute.ca
END:VEVENT
BEGIN:VEVENT
DTSTART;TZID=America/Vancouver:20240718T190000
DTEND;TZID=America/Vancouver:20240718T201500
DTSTAMP:20260422T090739
CREATED:20240621T033652Z
LAST-MODIFIED:20250404T215223Z
UID:36357-1721329200-1721333700@planinstitute.ca
SUMMARY:Wills\, Trusts\, and Estate Planning (BC) Webinar
DESCRIPTION:This webinar will cover the importance of creating a will\, different types of trusts\, and other estate planning considerations for a loved one with a disability.
URL:https://planinstitute.ca/events-calendar/wills-trusts-and-estate-planning-bc-webinar-july-18th/
CATEGORIES:Wills, Trusts, and Estate Planning
ATTACH;FMTTYPE=image/png:https://planinstitute.ca/wp-content/uploads/2024/01/Wills-Trusts-and-Estate-Planning.png
ORGANIZER;CN="Plan Institute":MAILTO:info@planinstitute.ca
END:VEVENT
BEGIN:VEVENT
DTSTART;TZID=America/Vancouver:20240717T190000
DTEND;TZID=America/Vancouver:20240717T204500
DTSTAMP:20260422T090739
CREATED:20240621T030216Z
LAST-MODIFIED:20250404T215208Z
UID:36340-1721242800-1721249100@planinstitute.ca
SUMMARY:Level 2: Advanced RDSP Webinar
DESCRIPTION:The Level 2: Advanced RDSP webinar is for those who have completed Level 1 and want to deepen their understanding and maximize the growth of their RDSP.
URL:https://planinstitute.ca/events-calendar/level-2-advanced-rdsp-webinar-july-17th/
CATEGORIES:RDSP Level 2
ATTACH;FMTTYPE=image/png:https://planinstitute.ca/wp-content/uploads/2024/01/Level-2_-Advanced-RDSP-1.png
ORGANIZER;CN="Plan Institute":MAILTO:info@planinstitute.ca
END:VEVENT
BEGIN:VEVENT
DTSTART;VALUE=DATE:20240715
DTEND;VALUE=DATE:20240826
DTSTAMP:20260422T090739
CREATED:20240921T012435Z
LAST-MODIFIED:20250404T215139Z
UID:37820-1721001600-1724630399@planinstitute.ca
SUMMARY:Personal Support Network Facilitation Online Course
DESCRIPTION:In our Personal Support Network Facilitation course\, you will learn how to build personal support networks for people facing social isolation.
URL:https://planinstitute.ca/events-calendar/personal-support-network-facilitation-online-course-july-15th/
CATEGORIES:Personal Support Network Facilitation Online Course
ATTACH;FMTTYPE=image/png:https://planinstitute.ca/wp-content/uploads/2024/11/Personal-Support-Network-Facilitation.png
ORGANIZER;CN="Plan Institute":MAILTO:info@planinstitute.ca
END:VEVENT
BEGIN:VEVENT
DTSTART;TZID=America/Vancouver:20240711T190000
DTEND;TZID=America/Vancouver:20240711T203000
DTSTAMP:20260422T090739
CREATED:20240621T023037Z
LAST-MODIFIED:20250404T215124Z
UID:36325-1720724400-1720729800@planinstitute.ca
SUMMARY:Level 1: Intro to the RDSP Webinar
DESCRIPTION:The Level 1: Intro to the RDSP webinar covers what an RDSP is\, eligibility criteria\, how to open an RDSP\, and how to apply for the Disability Tax Credit.
URL:https://planinstitute.ca/events-calendar/level-1-intro-to-the-rdsp-webinar-july-11th/
CATEGORIES:RDSP Level 1
ATTACH;FMTTYPE=image/png:https://planinstitute.ca/wp-content/uploads/2024/01/Level-1-Intro-to-the-RDSP.png
ORGANIZER;CN="Plan Institute":MAILTO:info@planinstitute.ca
END:VEVENT
BEGIN:VEVENT
DTSTART;TZID=America/Vancouver:20240612T100000
DTEND;TZID=America/Vancouver:20240612T114500
DTSTAMP:20260422T090739
CREATED:20240130T220427Z
LAST-MODIFIED:20250404T214855Z
UID:34521-1718186400-1718192700@planinstitute.ca
SUMMARY:Level 2: Advanced RDSP Webinar
DESCRIPTION:The Level 2: Advanced RDSP webinar is for those who have completed Level 1 and want to deepen their understanding and maximize the growth of their RDSP. \n 
URL:https://planinstitute.ca/events-calendar/level-2-advanced-rdsp-webinar-june-12th/
CATEGORIES:RDSP Level 2
ATTACH;FMTTYPE=image/png:https://planinstitute.ca/wp-content/uploads/2024/01/Level-2_-Advanced-RDSP-1.png
ORGANIZER;CN="Plan Institute":MAILTO:info@planinstitute.ca
END:VEVENT
BEGIN:VEVENT
DTSTART;TZID=America/Vancouver:20240606T100000
DTEND;TZID=America/Vancouver:20240606T111500
DTSTAMP:20260422T090739
CREATED:20240130T222045Z
LAST-MODIFIED:20250404T214836Z
UID:34528-1717668000-1717672500@planinstitute.ca
SUMMARY:Wills\, Trusts\, and Estate Planning (BC) Webinar
DESCRIPTION:This webinar will cover the importance of creating a will\, different types of trusts\, and other estate planning considerations for a loved one with a disability.
URL:https://planinstitute.ca/events-calendar/wills-trusts-and-estate-planning-bc-webinar-june-6th/
CATEGORIES:Wills, Trusts, and Estate Planning
ATTACH;FMTTYPE=image/png:https://planinstitute.ca/wp-content/uploads/2024/01/Wills-Trusts-and-Estate-Planning.png
ORGANIZER;CN="Plan Institute":MAILTO:info@planinstitute.ca
END:VEVENT
BEGIN:VEVENT
DTSTART;TZID=America/Vancouver:20240604T100000
DTEND;TZID=America/Vancouver:20240604T111500
DTSTAMP:20260422T090739
CREATED:20240130T212207Z
LAST-MODIFIED:20250404T214818Z
UID:34498-1717495200-1717499700@planinstitute.ca
SUMMARY:Level 1: Intro to the RDSP Webinar
DESCRIPTION:The Level 1: Intro to the RDSP webinar covers what an RDSP is\, eligibility criteria\, how to open an RDSP\, and how to apply for the Disability Tax Credit.
URL:https://planinstitute.ca/events-calendar/level-1-intro-to-the-rdsp-webinar-june-4th/
CATEGORIES:RDSP Level 1
ATTACH;FMTTYPE=image/png:https://planinstitute.ca/wp-content/uploads/2024/01/Level-1-Intro-to-the-RDSP.png
ORGANIZER;CN="Plan Institute":MAILTO:info@planinstitute.ca
END:VEVENT
BEGIN:VEVENT
DTSTART;TZID=America/Vancouver:20240523T190000
DTEND;TZID=America/Vancouver:20240523T204500
DTSTAMP:20260422T090739
CREATED:20240130T215935Z
LAST-MODIFIED:20250404T214758Z
UID:34519-1716490800-1716497100@planinstitute.ca
SUMMARY:Level 2: Advanced RDSP Webinar
DESCRIPTION:The Level 2: Advanced RDSP webinar is for those who have completed Level 1 and want to deepen their understanding and maximize the growth of their RDSP.
URL:https://planinstitute.ca/events-calendar/level-2-advanced-rdsp-webinar-may-23rd/
CATEGORIES:RDSP Level 2
ATTACH;FMTTYPE=image/png:https://planinstitute.ca/wp-content/uploads/2024/01/Level-2_-Advanced-RDSP-1.png
ORGANIZER;CN="Plan Institute":MAILTO:info@planinstitute.ca
END:VEVENT
BEGIN:VEVENT
DTSTART;VALUE=DATE:20240520
DTEND;VALUE=DATE:20240701
DTSTAMP:20260422T090739
CREATED:20240921T012139Z
LAST-MODIFIED:20250404T215007Z
UID:37816-1716163200-1719791999@planinstitute.ca
SUMMARY:Personal Support Network Facilitation Online Course
DESCRIPTION:In our Personal Support Network Facilitation course\, you will learn how to build personal support networks for people facing social isolation.
URL:https://planinstitute.ca/events-calendar/personal-support-network-facilitation-online-course-may-20th/
CATEGORIES:Personal Support Network Facilitation Online Course
ATTACH;FMTTYPE=image/png:https://planinstitute.ca/wp-content/uploads/2024/11/Personal-Support-Network-Facilitation.png
ORGANIZER;CN="Plan Institute":MAILTO:info@planinstitute.ca
END:VEVENT
BEGIN:VEVENT
DTSTART;TZID=America/Vancouver:20240516T190000
DTEND;TZID=America/Vancouver:20240516T201500
DTSTAMP:20260422T090739
CREATED:20240130T221854Z
LAST-MODIFIED:20250404T214500Z
UID:34526-1715886000-1715890500@planinstitute.ca
SUMMARY:Wills\, Trusts\, and Estate Planning (BC) Webinar
DESCRIPTION:This webinar will cover the importance of creating a will\, different types of trusts\, and other estate planning considerations for a loved one with a disability.
URL:https://planinstitute.ca/events-calendar/wills-trusts-and-estate-planning-bc-webinar-may-16th/
CATEGORIES:Wills, Trusts, and Estate Planning
ATTACH;FMTTYPE=image/png:https://planinstitute.ca/wp-content/uploads/2024/01/Wills-Trusts-and-Estate-Planning.png
ORGANIZER;CN="Plan Institute":MAILTO:info@planinstitute.ca
END:VEVENT
BEGIN:VEVENT
DTSTART;TZID=America/Vancouver:20240515T190000
DTEND;TZID=America/Vancouver:20240515T201500
DTSTAMP:20260422T090739
CREATED:20240130T211848Z
LAST-MODIFIED:20250404T214441Z
UID:34494-1715799600-1715804100@planinstitute.ca
SUMMARY:Level 1: Intro to the RDSP Webinar
DESCRIPTION:The Level 1: Intro to the RDSP webinar covers what an RDSP is\, eligibility criteria\, how to open an RDSP\, and how to apply for the Disability Tax Credit.
URL:https://planinstitute.ca/events-calendar/level-1-intro-to-the-rdsp-webinar-may-15th/
CATEGORIES:RDSP Level 1
ATTACH;FMTTYPE=image/png:https://planinstitute.ca/wp-content/uploads/2024/01/Level-1-Intro-to-the-RDSP.png
ORGANIZER;CN="Plan Institute":MAILTO:info@planinstitute.ca
END:VEVENT
BEGIN:VEVENT
DTSTART;TZID=America/Vancouver:20240423T100000
DTEND;TZID=America/Vancouver:20240423T114500
DTSTAMP:20260422T090739
CREATED:20240130T215749Z
LAST-MODIFIED:20250404T214338Z
UID:34517-1713866400-1713872700@planinstitute.ca
SUMMARY:Level 2: Advanced RDSP Webinar
DESCRIPTION:The Level 2: Advanced RDSP webinar is for those who have completed Level 1 and want to deepen their understanding and maximize the growth of their RDSP.
URL:https://planinstitute.ca/events-calendar/level-2-advanced-rdsp-webinar-april-23rd/
CATEGORIES:RDSP Level 2
ATTACH;FMTTYPE=image/png:https://planinstitute.ca/wp-content/uploads/2024/01/Level-2_-Advanced-RDSP-1.png
ORGANIZER;CN="Plan Institute":MAILTO:info@planinstitute.ca
END:VEVENT
BEGIN:VEVENT
DTSTART;TZID=America/Vancouver:20240418T100000
DTEND;TZID=America/Vancouver:20240418T111500
DTSTAMP:20260422T090739
CREATED:20240130T221653Z
LAST-MODIFIED:20250404T214311Z
UID:34523-1713434400-1713438900@planinstitute.ca
SUMMARY:Wills\, Trusts\, and Estate Planning (BC) Webinar
DESCRIPTION:This webinar will cover the importance of creating a will\, different types of trusts\, and other estate planning considerations for a loved one with a disability.
URL:https://planinstitute.ca/events-calendar/wills-trusts-and-estate-planning-bc-webinar-april-18th/
CATEGORIES:Wills, Trusts, and Estate Planning
ATTACH;FMTTYPE=image/png:https://planinstitute.ca/wp-content/uploads/2024/01/Wills-Trusts-and-Estate-Planning.png
ORGANIZER;CN="Plan Institute":MAILTO:info@planinstitute.ca
END:VEVENT
BEGIN:VEVENT
DTSTART;TZID=America/Vancouver:20240416T100000
DTEND;TZID=America/Vancouver:20240416T111500
DTSTAMP:20260422T090739
CREATED:20240130T211438Z
LAST-MODIFIED:20250404T214225Z
UID:34489-1713261600-1713266100@planinstitute.ca
SUMMARY:Level 1: Intro to the RDSP Webinar
DESCRIPTION:The Level 1: Intro to the RDSP webinar covers what an RDSP is\, eligibility criteria\, how to open an RDSP\, and how to apply for the Disability Tax Credit.
URL:https://planinstitute.ca/events-calendar/level-1-intro-to-the-rdsp-webinar-april-16th/
CATEGORIES:RDSP Level 1
ATTACH;FMTTYPE=image/png:https://planinstitute.ca/wp-content/uploads/2024/01/Level-1-Intro-to-the-RDSP.png
ORGANIZER;CN="Plan Institute":MAILTO:info@planinstitute.ca
END:VEVENT
BEGIN:VEVENT
DTSTART;VALUE=DATE:20240408
DTEND;VALUE=DATE:20240520
DTSTAMP:20260422T090739
CREATED:20240318T171641Z
LAST-MODIFIED:20250404T214128Z
UID:35221-1712534400-1716163199@planinstitute.ca
SUMMARY:Personal Support Network Facilitation Online Course
DESCRIPTION:In our Personal Support Network Facilitation course\, you will learn how to build personal support networks for people facing social isolation. \n 
URL:https://planinstitute.ca/events-calendar/personal-support-network-facilitation-online-course-april-8th/
CATEGORIES:Personal Support Network Facilitation Online Course
ATTACH;FMTTYPE=image/png:https://planinstitute.ca/wp-content/uploads/2024/11/Personal-Support-Network-Facilitation.png
ORGANIZER;CN="Plan Institute":MAILTO:info@planinstitute.ca
END:VEVENT
BEGIN:VEVENT
DTSTART;TZID=America/Vancouver:20240404T180000
DTEND;TZID=America/Vancouver:20240404T180000
DTSTAMP:20260422T090739
CREATED:20240322T184305Z
LAST-MODIFIED:20250404T210821Z
UID:35284-1712253600-1712253600@planinstitute.ca
SUMMARY:Le CIPH et Le REEI des mesures indispensables !/The DTC and RDSP: Essential Steps French Webinar
DESCRIPTION:Plan Institute est heureux de vous inviter à une conférence portant sur les credits d’impôt pour personnes handicapées (CIPH) ainsi que sur le Régime Enregistré d’Épargne Invalidité (REEI).
URL:https://planinstitute.ca/events-calendar/the-dtc-and-rdsp-essential-steps-french-webinar-april-4th/
CATEGORIES:Partner Events
ATTACH;FMTTYPE=image/png:https://planinstitute.ca/wp-content/uploads/2024/03/Finautonome-Webinar.png
ORGANIZER;CN="Plan Institute":MAILTO:info@planinstitute.ca
END:VEVENT
BEGIN:VEVENT
DTSTART;TZID=America/Vancouver:20240328T190000
DTEND;TZID=America/Vancouver:20240328T201500
DTSTAMP:20260422T090739
CREATED:20240118T211827Z
LAST-MODIFIED:20250404T204752Z
UID:34349-1711652400-1711656900@planinstitute.ca
SUMMARY:Wills\, Trusts\, and Estate Planning (BC) Webinar
DESCRIPTION:This webinar will cover the importance of creating a will\, different types of trusts\, and other estate planning considerations for a loved one with a disability.
URL:https://planinstitute.ca/events-calendar/wills-trusts-and-estate-planning-bc-webinar-march-28th/
CATEGORIES:Wills, Trusts, and Estate Planning
ATTACH;FMTTYPE=image/png:https://planinstitute.ca/wp-content/uploads/2024/01/Wills-Trusts-and-Estate-Planning.png
ORGANIZER;CN="Plan Institute":MAILTO:info@planinstitute.ca
END:VEVENT
BEGIN:VEVENT
DTSTART;TZID=America/Vancouver:20240327T190000
DTEND;TZID=America/Vancouver:20240327T204500
DTSTAMP:20260422T090739
CREATED:20240118T211233Z
LAST-MODIFIED:20250404T205031Z
UID:34346-1711566000-1711572300@planinstitute.ca
SUMMARY:Level 2: Advanced RDSP Webinar
DESCRIPTION:The Level 2: Advanced RDSP webinar is for those who have completed Level 1 and want to deepen their understanding and maximize the growth of their RDSP.
URL:https://planinstitute.ca/events-calendar/level-2-advanced-rdsp-webinar-march-27th/
CATEGORIES:RDSP Level 2
ATTACH;FMTTYPE=image/png:https://planinstitute.ca/wp-content/uploads/2024/01/Level-2_-Advanced-RDSP-1.png
ORGANIZER;CN="Plan Institute":MAILTO:info@planinstitute.ca
END:VEVENT
BEGIN:VEVENT
DTSTART;TZID=America/Vancouver:20240326T183000
DTEND;TZID=America/Vancouver:20240326T204500
DTSTAMP:20260422T090739
CREATED:20240228T213214Z
LAST-MODIFIED:20250404T214055Z
UID:34975-1711477800-1711485900@planinstitute.ca
SUMMARY:ਪੰਜਾਬੀ RDSP Level 1 ਵੈਬੀਨਾਰ: ਮੰਗਲਵਾਰ\, ਮਾਰਚ 26/RDSP Level 1 Webinar in Punjabi
DESCRIPTION:ਪਲਾਨ ਇੰਸਟੀਚਿਊਟ (Plan Institute) ਇਹ ਐਲਾਨ ਕਰਨ ਲਈ ਉਤਸ਼ਾਹਿਤ ਹੈ ਕਿ ਅਸੀਂ ਅਤੇ ਪੰਜਾਬੀ ਵਿੱਚ ਆਪਣਾ RDSP Level 1 ਵੈਬੀਨਾਰ ਲਾਂਚ!
URL:https://planinstitute.ca/events-calendar/translated-webinars-punjabi-march-26th/
CATEGORIES:RDSP Level 1,Translated Webinars
ATTACH;FMTTYPE=image/png:https://planinstitute.ca/wp-content/uploads/2024/02/RDSP-Level-1-Translated-Webinars.png
ORGANIZER;CN="Plan Institute":MAILTO:info@planinstitute.ca
END:VEVENT
BEGIN:VEVENT
DTSTART;TZID=America/Vancouver:20240325T183000
DTEND;TZID=America/Vancouver:20240325T204500
DTSTAMP:20260422T090739
CREATED:20240228T182018Z
LAST-MODIFIED:20250404T213914Z
UID:34948-1711391400-1711399500@planinstitute.ca
SUMMARY:Seminario web sobre RDSP de Nivel 1 en español: Lunes\, 25 de marzo/RDSP Level 1 Webinar in Spanish
DESCRIPTION:Plan Institute tiene el gusto de anunciar la publicación de nuestro seminario web sobre el Plan de ahorro registrado para personas con discapacidad (RDSP) de Nivel 1 en español!
URL:https://planinstitute.ca/events-calendar/translated-webinars-spanish-march-25th/
CATEGORIES:RDSP Level 1,Translated Webinars
ATTACH;FMTTYPE=image/png:https://planinstitute.ca/wp-content/uploads/2024/02/RDSP-Level-1-Translated-Webinars.png
ORGANIZER;CN="Plan Institute":MAILTO:info@planinstitute.ca
END:VEVENT
BEGIN:VEVENT
DTSTART;TZID=America/Vancouver:20240320T183000
DTEND;TZID=America/Vancouver:20240320T204500
DTSTAMP:20260422T090739
CREATED:20240228T205340Z
LAST-MODIFIED:20250404T213839Z
UID:34967-1710959400-1710967500@planinstitute.ca
SUMMARY:普通话/简体中文 RDSP 1 级网络研讨会： 3 月 20 日（星期三/RDSP Level 1 Webinar in Mandarin/Simplified Chinese
DESCRIPTION:计划协会很高兴地宣布，我们将提供普通话/简体中文版的 RDSP（注册残疾储蓄计划）1 级网络研讨会！
URL:https://planinstitute.ca/events-calendar/translated-webinars-mandarin-simplified-chinese-march-20th/
CATEGORIES:RDSP Level 1,Translated Webinars
ATTACH;FMTTYPE=image/png:https://planinstitute.ca/wp-content/uploads/2024/02/RDSP-Level-1-Translated-Webinars.png
ORGANIZER;CN="Plan Institute":MAILTO:info@planinstitute.ca
END:VEVENT
BEGIN:VEVENT
DTSTART;TZID=America/Vancouver:20240319T183000
DTEND;TZID=America/Vancouver:20240319T204500
DTSTAMP:20260422T090739
CREATED:20240228T203441Z
LAST-MODIFIED:20250404T213625Z
UID:34954-1710873000-1710881100@planinstitute.ca
SUMMARY:ندوة عبر الإنترنت باللغة العربية حول خطة الادخار المسجّلة لذوي الإعاقة المستوى 1/RDSP Level 1 Webinar in Arabic
DESCRIPTION:يسعدنا أن نعلن عن إطلاق ندوات عبر الإنترنت من المستوى الأول لخطة مدخرات العجز المسجلة باللغة العربية
URL:https://planinstitute.ca/events-calendar/translated-webinars-arabic-march-19th/
CATEGORIES:RDSP Level 1,Translated Webinars
ATTACH;FMTTYPE=image/png:https://planinstitute.ca/wp-content/uploads/2024/02/RDSP-Level-1-Translated-Webinars.png
ORGANIZER;CN="Plan Institute":MAILTO:info@planinstitute.ca
END:VEVENT
BEGIN:VEVENT
DTSTART;TZID=America/Vancouver:20240228T090000
DTEND;TZID=America/Vancouver:20240228T103000
DTSTAMP:20260422T090739
CREATED:20240205T012823Z
LAST-MODIFIED:20250404T205604Z
UID:34607-1709110800-1709116200@planinstitute.ca
SUMMARY:Presented in Partnership with Ontario Council of Agencies Serving Immigrants: Level 1: Intro to the RDSP Webinar
DESCRIPTION:The Level 1: Intro to the RDSP webinar covers what an RDSP is\, eligibility criteria\, how to open an RDSP\, and how to apply for the Disability Tax Credit.
URL:https://planinstitute.ca/events-calendar/ocasi-webinar-february-28th/
CATEGORIES:Partner Events,RDSP Level 1
ATTACH;FMTTYPE=image/png:https://planinstitute.ca/wp-content/uploads/2024/02/OCASI-Webinar.png
ORGANIZER;CN="Plan Institute":MAILTO:info@planinstitute.ca
END:VEVENT
BEGIN:VEVENT
DTSTART;TZID=America/Vancouver:20240222T100000
DTEND;TZID=America/Vancouver:20240222T114500
DTSTAMP:20260422T090739
CREATED:20240118T205714Z
LAST-MODIFIED:20250404T205033Z
UID:34340-1708596000-1708602300@planinstitute.ca
SUMMARY:Level 2: Advanced RDSP Webinar
DESCRIPTION:The Level 2: Advanced RDSP webinar is for those who have completed Level 1 and want to deepen their understanding and maximize the growth of their RDSP.
URL:https://planinstitute.ca/events-calendar/level-2-advanced-rdsp-webinar-february-22nd/
CATEGORIES:RDSP Level 2
ATTACH;FMTTYPE=image/png:https://planinstitute.ca/wp-content/uploads/2024/01/Level-2_-Advanced-RDSP-1.png
ORGANIZER;CN="Plan Institute":MAILTO:info@planinstitute.ca
END:VEVENT
END:VCALENDAR