BEGIN:VCALENDAR
VERSION:2.0
PRODID:-//Plan Institute - ECPv6.15.20//NONSGML v1.0//EN
CALSCALE:GREGORIAN
METHOD:PUBLISH
X-WR-CALNAME:Plan Institute
X-ORIGINAL-URL:https://planinstitute.ca
X-WR-CALDESC:Events for Plan Institute
REFRESH-INTERVAL;VALUE=DURATION:PT1H
X-Robots-Tag:noindex
X-PUBLISHED-TTL:PT1H
BEGIN:VTIMEZONE
TZID:America/Vancouver
BEGIN:DAYLIGHT
TZOFFSETFROM:-0800
TZOFFSETTO:-0700
TZNAME:PDT
DTSTART:20250309T100000
END:DAYLIGHT
BEGIN:STANDARD
TZOFFSETFROM:-0700
TZOFFSETTO:-0800
TZNAME:PST
DTSTART:20251102T090000
END:STANDARD
BEGIN:DAYLIGHT
TZOFFSETFROM:-0800
TZOFFSETTO:-0700
TZNAME:PDT
DTSTART:20260308T100000
END:DAYLIGHT
BEGIN:STANDARD
TZOFFSETFROM:-0700
TZOFFSETTO:-0800
TZNAME:PST
DTSTART:20261101T090000
END:STANDARD
BEGIN:DAYLIGHT
TZOFFSETFROM:-0800
TZOFFSETTO:-0700
TZNAME:PDT
DTSTART:20270314T100000
END:DAYLIGHT
BEGIN:STANDARD
TZOFFSETFROM:-0700
TZOFFSETTO:-0800
TZNAME:PST
DTSTART:20271107T090000
END:STANDARD
END:VTIMEZONE
BEGIN:VEVENT
DTSTART;TZID=America/Vancouver:20260611T100000
DTEND;TZID=America/Vancouver:20260611T120000
DTSTAMP:20260421T042046
CREATED:20260316T230317Z
LAST-MODIFIED:20260316T230317Z
UID:52746-1781172000-1781179200@planinstitute.ca
SUMMARY:Disability Tax Credit Webinar
DESCRIPTION:The Disability Tax Credit (DTC) is a non-refundable federal tax credit that can help reduce the amount of taxes owed by a person with a disability or someone who supports them. It is also a gateway benefit that gives access to the Canada Disability Benefit and RDSP. This webinar was created with our partners at Disability Alliance BC (DABC). We will explain what the DTC is and how to make the best use of it\, information about eligibility criteria\, misconceptions about the DTC\, application tips\, and what happens after you apply. We will end with a 45 minute Q&A period with a DTC specialist.
URL:https://planinstitute.ca/events-calendar/disability-tax-credit-webinar-7/
CATEGORIES:Disability Tax Credit
ORGANIZER;CN="Plan Institute":MAILTO:info@planinstitute.ca
END:VEVENT
BEGIN:VEVENT
DTSTART;TZID=America/Vancouver:20260618T100000
DTEND;TZID=America/Vancouver:20260618T113000
DTSTAMP:20260421T042046
CREATED:20260316T233921Z
LAST-MODIFIED:20260316T233921Z
UID:52752-1781776800-1781782200@planinstitute.ca
SUMMARY:Wills\, Trusts\, and Estate Planning in BC Webinar
DESCRIPTION:Understanding wills\, trusts\, and estate planning can help secure your financial future or the financial future of a loved one with a disability. This webinar covers topics including considerations when creating a will\, tips for protecting your loved ones when family passes\, types of trusts\, and more. This workshop may only be relevant to those within British Columbia\, as laws vary by province. Please note that registration is limited to 60 people\, therefore early registration is encouraged.
URL:https://planinstitute.ca/events-calendar/wills-trusts-and-estate-planning-in-bc-webinar-6/
CATEGORIES:Wills, Trusts, and Estate Planning
ORGANIZER;CN="Plan Institute":MAILTO:info@planinstitute.ca
END:VEVENT
BEGIN:VEVENT
DTSTART;TZID=America/Vancouver:20260707T190000
DTEND;TZID=America/Vancouver:20260707T210000
DTSTAMP:20260421T042046
CREATED:20260316T220246Z
LAST-MODIFIED:20260316T220321Z
UID:52742-1783450800-1783458000@planinstitute.ca
SUMMARY:Level 2: Advanced Registered Disability Savings Plan Webinar
DESCRIPTION:This Advanced RDSP webinar is for people who have an RDSP or have already taken Level 1 and would like to deepen their knowledge of the RDSP and learn how to maximize its growth. This webinar includes more complicated information so attendees should already have attended our RDSP: Level 1 webinar.
URL:https://planinstitute.ca/events-calendar/level-1-intro-to-the-registered-disability-savings-plan-webinar-4/
CATEGORIES:RDSP Level 1
ORGANIZER;CN="Plan Institute":MAILTO:info@planinstitute.ca
END:VEVENT
BEGIN:VEVENT
DTSTART;TZID=America/Vancouver:20260714T160000
DTEND;TZID=America/Vancouver:20260714T173000
DTSTAMP:20260421T042046
CREATED:20260402T020133Z
LAST-MODIFIED:20260402T020133Z
UID:52875-1784044800-1784050200@planinstitute.ca
SUMMARY:Canada Disability Benefit Webinar
DESCRIPTION:The Canada Disability Benefit (CDB) is a federal benefit for low-income working-age people with disabilities. The CDB provides a direct monthly payment of up to $200 and requires Disability Tax Credit approval for eligibility. This webinar breaks down the CDB application process\, from confirming your eligibility to calculating your benefit amount. At the end of the webinar\, there is a 30-minute question-and-answer period with a CDB specialist.
URL:https://planinstitute.ca/events-calendar/canada-disability-benefit-webinar-2/
CATEGORIES:Canada Disability Benefit
ORGANIZER;CN="Plan Institute":MAILTO:info@planinstitute.ca
END:VEVENT
BEGIN:VEVENT
DTSTART;TZID=America/Vancouver:20260716T173000
DTEND;TZID=America/Vancouver:20260716T193000
DTSTAMP:20260421T042046
CREATED:20260317T001537Z
LAST-MODIFIED:20260317T001537Z
UID:52758-1784223000-1784230200@planinstitute.ca
SUMMARY:ASL Interpreted: Wills\, Trusts\, and Estate Planning in BC Webinar
DESCRIPTION:Understanding wills\, trusts\, and estate planning can help secure your financial future or the financial future of a loved one with a disability. This ASL Interpreted webinar covers topics including considerations when creating a will\, tips for protecting your loved ones when family passes\, types of trusts\, and more. This workshop may only be relevant to those within British Columbia\, as laws vary by province. Please note that registration is limited to 60 people\, therefore early registration is encouraged.
URL:https://planinstitute.ca/events-calendar/asl-interpreted-wills-trusts-and-estate-planning-in-bc-webinar/
CATEGORIES:Translated Webinars,Wills, Trusts, and Estate Planning
ORGANIZER;CN="Plan Institute":MAILTO:info@planinstitute.ca
END:VEVENT
BEGIN:VEVENT
DTSTART;TZID=America/Vancouver:20260723T190000
DTEND;TZID=America/Vancouver:20260723T203000
DTSTAMP:20260421T042046
CREATED:20260316T235136Z
LAST-MODIFIED:20260316T235136Z
UID:52755-1784833200-1784838600@planinstitute.ca
SUMMARY:Wills\, Trusts\, and Estate Planning in BC Webinar
DESCRIPTION:Understanding wills\, trusts\, and estate planning can help secure your financial future or the financial future of a loved one with a disability. This webinar covers topics including considerations when creating a will\, tips for protecting your loved ones when family passes\, types of trusts\, and more. This workshop may only be relevant to those within British Columbia\, as laws vary by province. Please note that registration is limited to 60 people\, therefore early registration is encouraged.
URL:https://planinstitute.ca/events-calendar/wills-trusts-and-estate-planning-in-bc-webinar-7/
CATEGORIES:Wills, Trusts, and Estate Planning
ORGANIZER;CN="Plan Institute":MAILTO:info@planinstitute.ca
END:VEVENT
END:VCALENDAR