BEGIN:VCALENDAR
VERSION:2.0
PRODID:-//Plan Institute - ECPv6.15.20//NONSGML v1.0//EN
CALSCALE:GREGORIAN
METHOD:PUBLISH
X-WR-CALNAME:Plan Institute
X-ORIGINAL-URL:https://planinstitute.ca
X-WR-CALDESC:Events for Plan Institute
REFRESH-INTERVAL;VALUE=DURATION:PT1H
X-Robots-Tag:noindex
X-PUBLISHED-TTL:PT1H
BEGIN:VTIMEZONE
TZID:America/Vancouver
BEGIN:DAYLIGHT
TZOFFSETFROM:-0800
TZOFFSETTO:-0700
TZNAME:PDT
DTSTART:20250309T100000
END:DAYLIGHT
BEGIN:STANDARD
TZOFFSETFROM:-0700
TZOFFSETTO:-0800
TZNAME:PST
DTSTART:20251102T090000
END:STANDARD
BEGIN:DAYLIGHT
TZOFFSETFROM:-0800
TZOFFSETTO:-0700
TZNAME:PDT
DTSTART:20260308T100000
END:DAYLIGHT
BEGIN:STANDARD
TZOFFSETFROM:-0700
TZOFFSETTO:-0800
TZNAME:PST
DTSTART:20261101T090000
END:STANDARD
BEGIN:DAYLIGHT
TZOFFSETFROM:-0800
TZOFFSETTO:-0700
TZNAME:PDT
DTSTART:20270314T100000
END:DAYLIGHT
BEGIN:STANDARD
TZOFFSETFROM:-0700
TZOFFSETTO:-0800
TZNAME:PST
DTSTART:20271107T090000
END:STANDARD
END:VTIMEZONE
BEGIN:VEVENT
DTSTART;TZID=America/Vancouver:20260113T160000
DTEND;TZID=America/Vancouver:20260113T173000
DTSTAMP:20260421T014319
CREATED:20251111T005955Z
LAST-MODIFIED:20251111T005955Z
UID:51640-1768320000-1768325400@planinstitute.ca
SUMMARY:Level 1: Intro to the Registered Disability Savings Plan Webinar
DESCRIPTION:Click here to register for Level 1: Intro to the Registered Disability Savings Plan Webinar. \nJoin Plan Institute on Tuesday\, January 13\, 2026\, from 4 pm to 5:30 pm PT\, for a free beginner webinar on the Registered Disability Savings Plan (RDSP). This event includes a presentation and a 45-minute live Q&A with an RDSP expert.   \nAbout the Webinar:  \nThe Level 1: Intro to the RDSP webinar is for those who want to learn what an RDSP is\, who qualifies\, how to apply for the Disability Tax Credit\, and how to open an RDSP. This is best suited to people who want to learn the basics of RDSPs and get general information about the plan. No background knowledge is needed.  \nIn this webinar\, you will learn:  \n\nWhat is an RDSP \n\n\nWho qualifies \n\n\nHow to apply for the Disability Tax Credit\, \n\n\nHow to open an RDSP \n\n\nHow to access up to $90\,000 in government contributions up until the end of the year\, the beneficiary turns 49 \n\n\nHow to get retroactive government contributions \n\n\nReasons to open an RDSP in your 50s \n\nThe session is ideal for:  \n\nPeople with disabilities and chronic illnesses \n\n\nFamilies of people with disabilities and chronic illnesses \n\n\nHealthcare practitioners and financial professionals. 
URL:https://planinstitute.ca/events-calendar/level-1-intro-to-the-registered-disability-savings-plan-webinar/
CATEGORIES:RDSP Level 1
ORGANIZER;CN="Plan Institute":MAILTO:info@planinstitute.ca
END:VEVENT
BEGIN:VEVENT
DTSTART;TZID=America/Vancouver:20260115T190000
DTEND;TZID=America/Vancouver:20260115T203000
DTSTAMP:20260421T014319
CREATED:20251104T222835Z
LAST-MODIFIED:20251104T222835Z
UID:51541-1768503600-1768509000@planinstitute.ca
SUMMARY:Wills\, Trusts and Estate Planning in BC Webinar
DESCRIPTION:Click here to register for the Wills\, Trusts\, and Estate Planning in BC Webinar \nJoin Plan Institute on Thursday\, January 15\, 2026\, from 7 pm to 8:30 pm PT for a free webinar on Wills\, Trusts and Estate Planning in BC. This event includes a presentation and a 45-minute live Q&A with an estate planning attorney.  \nAbout the Webinar:  \nUnderstanding wills\, trusts\, and estate planning can help secure your financial future or the financial future of a loved one with a disability. This webinar covers topics including considerations when creating a will\, tips for protecting your loved ones when a family member passes\, types of trusts\, and more. This workshop may only be relevant to those within British Columbia\, as laws vary by province.  \nIn this webinar\, you will learn:  \n\nWhy and how to write and update a will when you have a family member with a disability \n\n\nWays to ensure your loved one with a disability is protected when family passes away \n\n\nTypes of trusts available for people with disabilities\, including the differences between discretionary and Non-discretionary\, Testamentary and Inter-vivos \n\n\nThe various tax rates differences between Trusts\, including recent federal changes\, and their implications \n\n\nThe roles and responsibilities of Executors and Trustees \n\n\nTips for finding the right lawyer for you and your family \n\nThe session is ideal for:  \n\nPeople with disabilities or any chronic illnesses \n\n\nFamily members of people with disabilities or chronic illnesses 
URL:https://planinstitute.ca/events-calendar/wills-trusts-and-estate-planning-in-bc-webinar/
CATEGORIES:Wills, Trusts, and Estate Planning
END:VEVENT
BEGIN:VEVENT
DTSTART;TZID=America/Vancouver:20260120T160000
DTEND;TZID=America/Vancouver:20260120T180000
DTSTAMP:20260421T014319
CREATED:20251104T232719Z
LAST-MODIFIED:20251125T020223Z
UID:51563-1768924800-1768932000@planinstitute.ca
SUMMARY:Level 2: Advanced Registered Disability Savings Plan Webinar
DESCRIPTION:Click here to register for Level 2: Advanced Registered Disability Savings Plan Webinar \nJoin Plan Institute on Tuesday\, January 20\, 2026\, from 4 pm to 5:45 pm PT / 7 pm to 8:45 pm ET\, for a free webinar on the Registered Disability Savings Plan (RDSP). This event includes a presentation and a 45-minute live Q&A with an RDSP expert.   \nAbout the Webinar: \nThis advanced webinar on the Registered Disability Savings Plan is for people who have an RDSP or have already taken Level 1 and would like to deepen their knowledge of the RDSP and learn how to maximize its growth. This webinar includes more complicated information\, so attendees should already have a basic understanding of the RDSP.   \nIn this webinar\, you will learn: \n\nWithdrawals  \n\n\nInvestments  \n\n\nRollovers  \n\n\nTransfers  \n\n\nWhat to do when a beneficiary passes away.  \n\nThe session is ideal for: \n\nPeople who have taken Level 1: Intro to the RDSP Webinar \n\n\nPeople who have a basic understanding of the RDSP and want to deepen their knowledge. 
URL:https://planinstitute.ca/events-calendar/level-2-advanced-registered-disability-savings-plan-webinar-3/
CATEGORIES:RDSP Level 2
END:VEVENT
BEGIN:VEVENT
DTSTART;VALUE=DATE:20260126
DTEND;VALUE=DATE:20260309
DTSTAMP:20260421T014319
CREATED:20251115T012134Z
LAST-MODIFIED:20251115T012134Z
UID:51699-1769385600-1773014399@planinstitute.ca
SUMMARY:Personal Support Network Facilitation Online Course
DESCRIPTION:This 6-week self-paced course provides participants with the knowledge and skills necessary to become a Personal Support Network Facilitator. As a Network Facilitator\, you will have the tools to re-chart a life of isolation towards a life at the centre of an active and caring personal support network.
URL:https://planinstitute.ca/events-calendar/personal-support-network-facilitation-online-course-2/
CATEGORIES:Personal Support Network Facilitation Online Course
ORGANIZER;CN="Plan Institute":MAILTO:info@planinstitute.ca
END:VEVENT
BEGIN:VEVENT
DTSTART;TZID=America/Vancouver:20260128T100000
DTEND;TZID=America/Vancouver:20260128T120000
DTSTAMP:20260421T014319
CREATED:20251125T010134Z
LAST-MODIFIED:20251125T010707Z
UID:51816-1769594400-1769601600@planinstitute.ca
SUMMARY:Punjabi Interpreted: Intro to the Registered Disability Savings Plan Webinar / ਪੰਜਾਬੀ RDSP Level 1 ਵੈਬੀਨਾਰ: ਮੰਗਲਵਾਰ\, ਜਨਵਰੀ 28\, 2026
DESCRIPTION:Level 1: RDSP ਵੈਬੀਨਾਰ ਨਾਲ ਜਾਣ-ਪਛਾਣ ਕਿਸੇ ਵੀ ਅਜਿਹੇ ਵਿਅਕਤੀ ਲਈ ਹੈ ਜੋ RDSP ਦੀਆਂ ਬੁਨਿਆਦੀ ਗੱਲਾਂ ਸਿੱਖਣਾ ਚਾਹੁੰਦਾ ਹੈ\, ਜਿਸ ਵਿੱਚ RDSP ਕੀ ਹੈ\, ਕੌਣ ਯੋਗਤਾ ਪੂਰੀ ਕਰਦਾ ਹੈ\, ਅਪੰਗਤਾ ਟੈਕਸ ਕ੍ਰੈਡਿਟ ਲਈ ਅਰਜ਼ੀ ਕਿਵੇਂ ਦੇਣੀ ਹੈ\, ਅਤੇ RDSP ਕਿਵੇਂ ਖੋਲ੍ਹਣਾ ਹੈ\, ਸ਼ਾਮਲ ਹਨ। RDSP ਦਾ ਕੋਈ ਅਗਾਊਂ ਗਿਆਨ ਲੋੜੀਂਦਾ ਨਹੀਂ ਹੈ।  \nThe Level 1: Intro to the RDSP webinar is for anyone who wants to learn the basics of RDSPs\, including what an RDSP is\, who qualifies\, how to apply for the Disability Tax Credit\, and how to open an RDSP. No prior knowledge of the RDSP is required.
URL:https://planinstitute.ca/events-calendar/punjabi-interpreted-intro-to-the-registered-disability-savings-plan-webinar-%e0%a8%aa%e0%a9%b0%e0%a8%9c%e0%a8%be%e0%a8%ac%e0%a9%80-rdsp-level-1-%e0%a8%b5%e0%a9%88%e0%a8%ac%e0%a9%80%e0%a8%a8/
CATEGORIES:RDSP Level 1,Translated Webinars
END:VEVENT
BEGIN:VEVENT
DTSTART;TZID=America/Vancouver:20260128T190000
DTEND;TZID=America/Vancouver:20260128T204500
DTSTAMP:20260421T014319
CREATED:20251104T220013Z
LAST-MODIFIED:20251104T222904Z
UID:51538-1769626800-1769633100@planinstitute.ca
SUMMARY:Disability Tax Credit Webinar
DESCRIPTION:Click here to register for the Disability Tax Credit Webinar \nJoin Plan Institute on Wednesday\, January 28\, 2026\, from 7 pm to 8:45 pm PT / 10 pm to 11:45 pm ET for a free webinar on the Disability Tax Credit (DTC). This event includes a presentation on the DTC and a 45-minute live Q&A with a DTC expert.  \nAbout the Webinar:  \nThe Disability Tax Credit is a non-refundable federal tax credit that can help reduce taxes owed by a person with disability or their supporter. It is also a critical gateway to other major benefits\, including the Registered Disability Savings Plan and the Canada Disability Benefit.  \nIn this webinar\, you will learn: \n\nWhat the Disability Tax Credit is and how to use it \n\n\nWho is eligible and how to determine DTC eligibility \n\n\nCommon myths and misconceptions about the DTC \n\n\nStep-by-step DTC application tips \n\n\nWhat happens after you apply for the credit \n\nThe session is ideal for: \n\nPeople with disabilities or any chronic illness that impacts their lives  \n\n\nFamily members and other support people \n\n\nCaregivers\, medical practitioners\, social workers\, and other professionals 
URL:https://planinstitute.ca/events-calendar/disability-tax-credit-webinar-2/
CATEGORIES:Disability Tax Credit
END:VEVENT
END:VCALENDAR